BEGIN:VCALENDAR
VERSION:2.0
PRODID:-//Supportive Hands Hospice - ECPv6.15.20//NONSGML v1.0//EN
CALSCALE:GREGORIAN
METHOD:PUBLISH
X-ORIGINAL-URL:https://supportivehandshospice.com
X-WR-CALDESC:Events for Supportive Hands Hospice
REFRESH-INTERVAL;VALUE=DURATION:PT1H
X-Robots-Tag:noindex
X-PUBLISHED-TTL:PT1H
BEGIN:VTIMEZONE
TZID:America/Phoenix
BEGIN:STANDARD
TZOFFSETFROM:-0700
TZOFFSETTO:-0700
TZNAME:MST
DTSTART:20230101T000000
END:STANDARD
END:VTIMEZONE
BEGIN:VEVENT
DTSTART;TZID=America/Phoenix:20250107T123000
DTEND;TZID=America/Phoenix:20250107T133000
DTSTAMP:20260421T114936
CREATED:20250128T211623Z
LAST-MODIFIED:20260421T114853Z
UID:10000051-1736253000-1736256600@supportivehandshospice.com
SUMMARY:Maricela - BP Clinic - Olive Ridge Senior Living (closed Event)
DESCRIPTION:
URL:https://supportivehandshospice.com/event/maricela-bp-clinic-olive-ridge-senior-living-closed-event-2/
END:VEVENT
BEGIN:VEVENT
DTSTART;TZID=America/Phoenix:20250107T090000
DTEND;TZID=America/Phoenix:20250107T100000
DTSTAMP:20260421T114936
CREATED:20250128T211623Z
LAST-MODIFIED:20260421T114853Z
UID:10000049-1736240400-1736244000@supportivehandshospice.com
SUMMARY:Heather - BP Clinic - Golden Vista (Closed Event)
DESCRIPTION:
URL:https://supportivehandshospice.com/event/heather-bp-clinic-golden-vista-closed-event/
END:VEVENT
BEGIN:VEVENT
DTSTART;TZID=America/Phoenix:20250106T140000
DTEND;TZID=America/Phoenix:20250106T150000
DTSTAMP:20260421T114936
CREATED:20250128T211623Z
LAST-MODIFIED:20260421T114853Z
UID:10000048-1736172000-1736175600@supportivehandshospice.com
SUMMARY:Heather - Core Balance/Fall Prevention Class - Park Terrace (Closed Event)
DESCRIPTION:
URL:https://supportivehandshospice.com/event/heather-core-balance-fall-prevention-class-park-terrace-closed-event/
END:VEVENT
BEGIN:VEVENT
DTSTART;TZID=America/Phoenix:20250103T110000
DTEND;TZID=America/Phoenix:20250103T120000
DTSTAMP:20260421T114936
CREATED:20250128T211623Z
LAST-MODIFIED:20260421T114853Z
UID:10000047-1735902000-1735905600@supportivehandshospice.com
SUMMARY:Heather - Caregivier Support Group - Gold Canyon (Closed Event)
DESCRIPTION:
URL:https://supportivehandshospice.com/event/heather-caregivier-support-group-gold-canyon-closed-event/
END:VEVENT
BEGIN:VEVENT
DTSTART;TZID=America/Phoenix:20250102T090000
DTEND;TZID=America/Phoenix:20250102T120000
DTSTAMP:20260421T114936
CREATED:20250128T211623Z
LAST-MODIFIED:20260421T114853Z
UID:10000046-1735808400-1735819200@supportivehandshospice.com
SUMMARY:Heather - BP Clinic - Del Oro (Open Event)
DESCRIPTION:
URL:https://supportivehandshospice.com/event/heather-bp-clinic-del-oro-open-event/
END:VEVENT
BEGIN:VEVENT
DTSTART;TZID=America/Phoenix:20241230T140000
DTEND;TZID=America/Phoenix:20241230T150000
DTSTAMP:20260421T114936
CREATED:20241202T152139Z
LAST-MODIFIED:20250304T180913Z
UID:10000030-1735567200-1735570800@supportivehandshospice.com
SUMMARY:Kiersten - Tensil & Nail Design - Inspirations of Tempe
DESCRIPTION:
URL:https://supportivehandshospice.com/event/tensil-nail-design-inspirations-of-tempe/
LOCATION:Inspirations of Tempe\, 1875 E Guadalupe Rd\, Tempe\, AZ\, 85283\, United States
CATEGORIES:Community Outreach
ATTACH;FMTTYPE=image/png:https://supportivehandshospice.com/wp-content/uploads/2024/12/nails-e1733159419733.png
END:VEVENT
BEGIN:VEVENT
DTSTART;TZID=America/Phoenix:20241230T140000
DTEND;TZID=America/Phoenix:20241230T150000
DTSTAMP:20260421T114936
CREATED:20241202T152139Z
LAST-MODIFIED:20260421T114852Z
UID:10000031-1735567200-1735570800@supportivehandshospice.com
SUMMARY:Heather - Core Balance & Exercise Fall Prevention Class - Park Terrace
DESCRIPTION:
URL:https://supportivehandshospice.com/event/core-balance-exercise-fall-prevention-class-park-terrace/
END:VEVENT
BEGIN:VEVENT
DTSTART;TZID=America/Phoenix:20241227T150000
DTEND;TZID=America/Phoenix:20241227T160000
DTSTAMP:20260421T114936
CREATED:20241202T152139Z
LAST-MODIFIED:20250304T180913Z
UID:10000029-1735311600-1735315200@supportivehandshospice.com
SUMMARY:Kiersten - Birthday Bash @ Mosaic Gardens Chandler
DESCRIPTION:
URL:https://supportivehandshospice.com/event/birthday-bash-mosaic-gardens-chandler/
LOCATION:Mosaic Gardens Chandler\, 850 S Pennington Dr\, Chandler\, AZ\, 85224\, United States
CATEGORIES:Community Outreach
ATTACH;FMTTYPE=image/png:https://supportivehandshospice.com/wp-content/uploads/2024/12/birthdaybash-e1733159365610.png
END:VEVENT
BEGIN:VEVENT
DTSTART;TZID=America/Phoenix:20241225T103000
DTEND;TZID=America/Phoenix:20241225T123000
DTSTAMP:20260421T114936
CREATED:20241202T152139Z
LAST-MODIFIED:20250304T180913Z
UID:10000028-1735122600-1735129800@supportivehandshospice.com
SUMMARY:Kiersten - Hot Cocoa & Movies - Elmwood Senior Living
DESCRIPTION:
URL:https://supportivehandshospice.com/event/hot-cocoa-movies-elmwood-senior-living/
LOCATION:Elmwood Senior Living\, 2555 N Price Rd\, Chandler\, AZ\, 85224\, United States
CATEGORIES:Community Outreach,Holiday Events
ATTACH;FMTTYPE=image/png:https://supportivehandshospice.com/wp-content/uploads/2024/12/hotcocoa-e1733159442842.png
END:VEVENT
BEGIN:VEVENT
DTSTART;TZID=America/Phoenix:20241224T103000
DTEND;TZID=America/Phoenix:20241224T113000
DTSTAMP:20260421T114936
CREATED:20250128T211622Z
LAST-MODIFIED:20260421T114852Z
UID:10000045-1735036200-1735039800@supportivehandshospice.com
SUMMARY:Heather - Christmas Bingo - Apache Junction Senior Center (Open)
DESCRIPTION:
URL:https://supportivehandshospice.com/event/heather-christmas-bingo-apache-junction-senior-center-open/
END:VEVENT
BEGIN:VEVENT
DTSTART;TZID=America/Phoenix:20241223T130000
DTEND;TZID=America/Phoenix:20241223T150000
DTSTAMP:20260421T114936
CREATED:20241202T152139Z
LAST-MODIFIED:20260421T114852Z
UID:10000027-1734958800-1734966000@supportivehandshospice.com
SUMMARY:Heather - BP Clinic - Sustain & Serve Food Bank (Open Event)
DESCRIPTION:Open Event\nPlease join us!
URL:https://supportivehandshospice.com/event/bp-clinic-sustain-serve-food-bank-open-event/
CATEGORIES:Blood Pressure Clinic,Open to the Public
ATTACH;FMTTYPE=image/png:https://supportivehandshospice.com/wp-content/uploads/2024/12/bpclinic-e1733159478800.png
END:VEVENT
BEGIN:VEVENT
DTSTART;TZID=America/Phoenix:20241223T103000
DTEND;TZID=America/Phoenix:20241223T113000
DTSTAMP:20260421T114936
CREATED:20241202T152139Z
LAST-MODIFIED:20260421T114852Z
UID:10000026-1734949800-1734953400@supportivehandshospice.com
SUMMARY:Heather - BP Clinic - Weaver's Needle (Closed Event)
DESCRIPTION:Closed Event\nNot open to the public.
URL:https://supportivehandshospice.com/event/bp-clinic-weavers-needle-closed-event/
CATEGORIES:Blood Pressure Clinic
ATTACH;FMTTYPE=image/png:https://supportivehandshospice.com/wp-content/uploads/2024/12/bpclinic-e1733159478800.png
END:VEVENT
BEGIN:VEVENT
DTSTART;TZID=America/Phoenix:20241220T150000
DTEND;TZID=America/Phoenix:20241220T160000
DTSTAMP:20260421T114936
CREATED:20250128T211622Z
LAST-MODIFIED:20260421T114852Z
UID:10000044-1734706800-1734710400@supportivehandshospice.com
SUMMARY:Heather - Christmas Bingo - Fountain Hills Post Acute (Closed Event)
DESCRIPTION:
URL:https://supportivehandshospice.com/event/heather-christmas-bingo-fountain-hills-post-acute-closed-event/
END:VEVENT
BEGIN:VEVENT
DTSTART;TZID=America/Phoenix:20241220T100000
DTEND;TZID=America/Phoenix:20241220T110000
DTSTAMP:20260421T114936
CREATED:20250130T163706Z
LAST-MODIFIED:20260421T114852Z
UID:10000087-1734688800-1734692400@supportivehandshospice.com
SUMMARY:Grief Group - Glendale Adult Center (Open Event)
DESCRIPTION:
URL:https://supportivehandshospice.com/event/grief-group-glendale-adult-center-open-event/
LOCATION:5970 W Brown St\, Glendale\, AZ\, United States
GEO:33.567972;-112.177961
END:VEVENT
BEGIN:VEVENT
DTSTART;TZID=America/Phoenix:20241220T083000
DTEND;TZID=America/Phoenix:20241220T093000
DTSTAMP:20260421T114936
CREATED:20241202T152139Z
LAST-MODIFIED:20260421T114852Z
UID:10000025-1734683400-1734687000@supportivehandshospice.com
SUMMARY:Jessica - Loteria - Tolleson Senior Center
DESCRIPTION:
URL:https://supportivehandshospice.com/event/loteria-tolleson-senior-center/
LOCATION:Tolleson Senior Center\, 9055 W Van Buren St\, Tolleson\, AZ\, 85353\, United States
CATEGORIES:Community Outreach,Holiday Events
ATTACH;FMTTYPE=image/png:https://supportivehandshospice.com/wp-content/uploads/2024/12/loteria-e1733159427726.png
END:VEVENT
BEGIN:VEVENT
DTSTART;TZID=America/Phoenix:20241219T123000
DTEND;TZID=America/Phoenix:20241219T133000
DTSTAMP:20260421T114936
CREATED:20241202T152139Z
LAST-MODIFIED:20260421T114851Z
UID:10000024-1734611400-1734615000@supportivehandshospice.com
SUMMARY:Heather - Loteria - Chandler Senior Center (Open Event)
DESCRIPTION:Open Event\nPlease join us!
URL:https://supportivehandshospice.com/event/loteria-chandler-senior-center-open-event/
LOCATION:Chandler Senior Center\, 202 E Boston St\, Chandler\, AZ\, 85225\, United States
CATEGORIES:Community Outreach,Holiday Events,Open to the Public
ATTACH;FMTTYPE=image/png:https://supportivehandshospice.com/wp-content/uploads/2024/12/loteria-e1733159427726.png
END:VEVENT
BEGIN:VEVENT
DTSTART;TZID=America/Phoenix:20241219T110000
DTEND;TZID=America/Phoenix:20241219T120000
DTSTAMP:20260421T114936
CREATED:20241202T152138Z
LAST-MODIFIED:20260421T114851Z
UID:10000023-1734606000-1734609600@supportivehandshospice.com
SUMMARY:Heather - Christmas Karaoke - Gilbert Senior Center (Open Event)
DESCRIPTION:Open Event\nPlease join us!
URL:https://supportivehandshospice.com/event/christmas-karaoke-gilbert-senior-center-open-event/
LOCATION:Gilbert Senior Center\, 130 N Oak St\, Gilbert\, AZ\, 85233\, United States
CATEGORIES:Community Outreach,Holiday Events,Open to the Public
ATTACH;FMTTYPE=image/png:https://supportivehandshospice.com/wp-content/uploads/2024/12/karaoke-e1733159434128.png
END:VEVENT
BEGIN:VEVENT
DTSTART;TZID=America/Phoenix:20241218T150000
DTEND;TZID=America/Phoenix:20241218T160000
DTSTAMP:20260421T114936
CREATED:20241202T152138Z
LAST-MODIFIED:20241203T135508Z
UID:10000022-1734534000-1734537600@supportivehandshospice.com
SUMMARY:Christmas Bingo - Fountain Hills Post Acute (Closed Event)
DESCRIPTION:Closed Event\nNot open to the public.
URL:https://supportivehandshospice.com/event/christmas-bingo-fountain-hills-post-acute-closed-event/
LOCATION:Fountain Hills Post Acute\, 16300 Keith McMahan Dr\, Fountain Hills\, AZ\, 85268\, United States
CATEGORIES:Closed to the Public,Holiday Events
ATTACH;FMTTYPE=image/png:https://supportivehandshospice.com/wp-content/uploads/2024/12/christmasbingo-e1733159463188.png
END:VEVENT
BEGIN:VEVENT
DTSTART;TZID=America/Phoenix:20241218T133000
DTEND;TZID=America/Phoenix:20241218T143000
DTSTAMP:20260421T114936
CREATED:20241202T152138Z
LAST-MODIFIED:20260421T114851Z
UID:10000021-1734528600-1734532200@supportivehandshospice.com
SUMMARY:Heather - Christmas Bingo - Morning Star
DESCRIPTION:
URL:https://supportivehandshospice.com/event/christmas-bingo-morning-star/
CATEGORIES:Holiday Events
ATTACH;FMTTYPE=image/png:https://supportivehandshospice.com/wp-content/uploads/2024/12/christmasbingo-e1733159463188.png
END:VEVENT
BEGIN:VEVENT
DTSTART;TZID=America/Phoenix:20241218T110000
DTEND;TZID=America/Phoenix:20241218T120000
DTSTAMP:20260421T114936
CREATED:20241202T152138Z
LAST-MODIFIED:20260421T114851Z
UID:10000020-1734519600-1734523200@supportivehandshospice.com
SUMMARY:Heather - BP Clinic - Fountain View Village
DESCRIPTION:
URL:https://supportivehandshospice.com/event/bp-clinic-fountain-view-village/
LOCATION:Fountain View Village\, 16455 E Ave of the Fountains\, Fountain Hills\, AZ\, 85268\, United States
CATEGORIES:Blood Pressure Clinic
ATTACH;FMTTYPE=image/png:https://supportivehandshospice.com/wp-content/uploads/2024/12/bpclinic-e1733159478800.png
END:VEVENT
BEGIN:VEVENT
DTSTART;TZID=America/Phoenix:20241217T183000
DTEND;TZID=America/Phoenix:20241217T193000
DTSTAMP:20260421T114936
CREATED:20241202T152138Z
LAST-MODIFIED:20260421T114851Z
UID:10000019-1734460200-1734463800@supportivehandshospice.com
SUMMARY:Heather - Santa  - Mountain View Lutheran Church
DESCRIPTION:
URL:https://supportivehandshospice.com/event/santa-mountain-view-lutheran-church/
LOCATION:Mountain View Lutheran Church\, 2122 S Goldfield Rd\, Apache Junction\, AZ\, United States
CATEGORIES:Community Outreach,Holiday Events
ATTACH;FMTTYPE=image/png:https://supportivehandshospice.com/wp-content/uploads/2024/12/santa-e1733159383939.png
GEO:33.395818;-111.511544
X-APPLE-STRUCTURED-LOCATION;VALUE=URI;X-ADDRESS=Mountain View Lutheran Church 2122 S Goldfield Rd Apache Junction AZ United States;X-APPLE-RADIUS=500;X-TITLE=2122 S Goldfield Rd:geo:-111.511544,33.395818
END:VEVENT
BEGIN:VEVENT
DTSTART;TZID=America/Phoenix:20241217T100000
DTEND;TZID=America/Phoenix:20241217T110000
DTSTAMP:20260421T114936
CREATED:20241202T152138Z
LAST-MODIFIED:20260421T114851Z
UID:10000018-1734429600-1734433200@supportivehandshospice.com
SUMMARY:Heather - Fall Prevention - Golden Vista (Closed Event)
DESCRIPTION:Closed Event\nNot open to the public.
URL:https://supportivehandshospice.com/event/fall-prevention-golden-vista-closed-event/
CATEGORIES:Education
ATTACH;FMTTYPE=image/png:https://supportivehandshospice.com/wp-content/uploads/2024/12/fallprevention-e1733159449586.png
END:VEVENT
BEGIN:VEVENT
DTSTART;TZID=America/Phoenix:20241217T090000
DTEND;TZID=America/Phoenix:20241217T100000
DTSTAMP:20260421T114936
CREATED:20241202T152138Z
LAST-MODIFIED:20260421T114851Z
UID:10000017-1734426000-1734429600@supportivehandshospice.com
SUMMARY:Heather - BP Clinic - Golden Vista (Closed Event)
DESCRIPTION:Closed Event\nNot open to the public.
URL:https://supportivehandshospice.com/event/bp-clinic-golden-vista-closed-event-2/
CATEGORIES:Blood Pressure Clinic
ATTACH;FMTTYPE=image/png:https://supportivehandshospice.com/wp-content/uploads/2024/12/bpclinic-e1733159478800.png
END:VEVENT
BEGIN:VEVENT
DTSTART;TZID=America/Phoenix:20241216T140000
DTEND;TZID=America/Phoenix:20241216T150000
DTSTAMP:20260421T114936
CREATED:20241202T152138Z
LAST-MODIFIED:20260421T114850Z
UID:10000016-1734357600-1734361200@supportivehandshospice.com
SUMMARY:Heather - Core Balance & Exercise - Fall Prevention Class - Park Terrace (Closed Event)
DESCRIPTION:Closed Event\nNot open to the public.
URL:https://supportivehandshospice.com/event/core-balance-exercise-fall-prevention-class-park-terrace-closed-event/
CATEGORIES:Closed to the Public,Education
END:VEVENT
BEGIN:VEVENT
DTSTART;TZID=America/Phoenix:20241216T130000
DTEND;TZID=America/Phoenix:20241216T140000
DTSTAMP:20260421T114936
CREATED:20241202T152138Z
LAST-MODIFIED:20250304T180912Z
UID:10000015-1734354000-1734357600@supportivehandshospice.com
SUMMARY:Kiersten - Opening Presents w/ Patients- Mosaic Gardens Chandler
DESCRIPTION:
URL:https://supportivehandshospice.com/event/opening-presents-w-patients-mosaic-gardens-chandler/
LOCATION:Mosaic Gardens Chandler\, 850 S Pennington Dr\, Chandler\, AZ\, 85224\, United States
CATEGORIES:Community Outreach,Holiday Events
ATTACH;FMTTYPE=image/png:https://supportivehandshospice.com/wp-content/uploads/2024/12/presents-e1733159400396.png
END:VEVENT
BEGIN:VEVENT
DTSTART;TZID=America/Phoenix:20241213T130000
DTEND;TZID=America/Phoenix:20241213T140000
DTSTAMP:20260421T114936
CREATED:20241202T152137Z
LAST-MODIFIED:20250304T180911Z
UID:10000014-1734094800-1734098400@supportivehandshospice.com
SUMMARY:Kiersten - Cookie Decorating @ Elmwood Senior Living
DESCRIPTION:
URL:https://supportivehandshospice.com/event/cookie-decorating-elmwood-senior-living/
LOCATION:Elmwood Senior Living\, 2555 N Price Rd\, Chandler\, AZ\, 85224\, United States
CATEGORIES:Community Outreach,Holiday Events
ATTACH;FMTTYPE=image/png:https://supportivehandshospice.com/wp-content/uploads/2024/12/cookies-e1733159456984.png
END:VEVENT
BEGIN:VEVENT
DTSTART;TZID=America/Phoenix:20241213T100000
DTEND;TZID=America/Phoenix:20241213T120000
DTSTAMP:20260421T114936
CREATED:20241202T152137Z
LAST-MODIFIED:20260421T114850Z
UID:10000013-1734084000-1734091200@supportivehandshospice.com
SUMMARY:Heather - BP Clinic - Swap Meet
DESCRIPTION:
URL:https://supportivehandshospice.com/event/bp-clinic-swap-meet/
CATEGORIES:Blood Pressure Clinic,Open to the Public
ATTACH;FMTTYPE=image/png:https://supportivehandshospice.com/wp-content/uploads/2024/12/bpclinic-e1733159478800.png
END:VEVENT
BEGIN:VEVENT
DTSTART;TZID=America/Phoenix:20241212T133000
DTEND;TZID=America/Phoenix:20241212T143000
DTSTAMP:20260421T114936
CREATED:20250128T211620Z
LAST-MODIFIED:20260421T114850Z
UID:10000043-1734010200-1734013800@supportivehandshospice.com
SUMMARY:Maricela - Bingo - Olive Ridge Senior Living (Closed Event)
DESCRIPTION:
URL:https://supportivehandshospice.com/event/maricela-bingo-olive-ridge-senior-living-closed-event/
END:VEVENT
BEGIN:VEVENT
DTSTART;TZID=America/Phoenix:20241212T130000
DTEND;TZID=America/Phoenix:20241212T140000
DTSTAMP:20260421T114936
CREATED:20250128T211620Z
LAST-MODIFIED:20250304T180911Z
UID:10000042-1734008400-1734012000@supportivehandshospice.com
SUMMARY:Kiersten - Cookie Decoration - Citrus Manor
DESCRIPTION:
URL:https://supportivehandshospice.com/event/kiersten-cookie-decoration-citrus-manor/
END:VEVENT
BEGIN:VEVENT
DTSTART;TZID=America/Phoenix:20241212T120000
DTEND;TZID=America/Phoenix:20241212T130000
DTSTAMP:20260421T114936
CREATED:20241202T152137Z
LAST-MODIFIED:20260421T114850Z
UID:10000012-1734004800-1734008400@supportivehandshospice.com
SUMMARY:Heather - Never would I ever - Gilbert Senior Center
DESCRIPTION:
URL:https://supportivehandshospice.com/event/never-would-i-ever-gilbert-senior-center/
LOCATION:Gilbert Senior Center\, 130 N Oak St\, Gilbert\, AZ\, 85233\, United States
CATEGORIES:Community Outreach
END:VEVENT
END:VCALENDAR