BEGIN:VCALENDAR
VERSION:2.0
PRODID:-//Supportive Hands Hospice - ECPv6.15.20//NONSGML v1.0//EN
CALSCALE:GREGORIAN
METHOD:PUBLISH
X-ORIGINAL-URL:https://supportivehandshospice.com
X-WR-CALDESC:Events for Supportive Hands Hospice
REFRESH-INTERVAL;VALUE=DURATION:PT1H
X-Robots-Tag:noindex
X-PUBLISHED-TTL:PT1H
BEGIN:VTIMEZONE
TZID:America/Phoenix
BEGIN:STANDARD
TZOFFSETFROM:-0700
TZOFFSETTO:-0700
TZNAME:MST
DTSTART:20230101T000000
END:STANDARD
END:VTIMEZONE
BEGIN:VEVENT
DTSTART;TZID=America/Phoenix:20241219T110000
DTEND;TZID=America/Phoenix:20241219T120000
DTSTAMP:20260421T181854
CREATED:20241202T152138Z
LAST-MODIFIED:20260421T181222Z
UID:10000023-1734606000-1734609600@supportivehandshospice.com
SUMMARY:Heather - Christmas Karaoke - Gilbert Senior Center (Open Event)
DESCRIPTION:Open Event\nPlease join us!
URL:https://supportivehandshospice.com/event/christmas-karaoke-gilbert-senior-center-open-event/
LOCATION:Gilbert Senior Center\, 130 N Oak St\, Gilbert\, AZ\, 85233\, United States
CATEGORIES:Community Outreach,Holiday Events,Open to the Public
ATTACH;FMTTYPE=image/png:https://supportivehandshospice.com/wp-content/uploads/2024/12/karaoke-e1733159434128.png
END:VEVENT
BEGIN:VEVENT
DTSTART;TZID=America/Phoenix:20241202T140000
DTEND;TZID=America/Phoenix:20241202T150000
DTSTAMP:20260421T181854
CREATED:20241202T152135Z
LAST-MODIFIED:20250304T180908Z
UID:10000002-1733148000-1733151600@supportivehandshospice.com
SUMMARY:Kiersten - Christmas Karaoke - Inspirations of Tempe
DESCRIPTION:
URL:https://supportivehandshospice.com/event/christmas-karaoke-inspirations-of-tempe/
LOCATION:Inspirations of Tempe\, 1875 E Guadalupe Rd\, Tempe\, AZ\, 85283\, United States
CATEGORIES:Community Outreach,Holiday Events
ATTACH;FMTTYPE=image/png:https://supportivehandshospice.com/wp-content/uploads/2024/12/karaoke-e1733159434128.png
END:VEVENT
END:VCALENDAR