BEGIN:VCALENDAR
VERSION:2.0
PRODID:-//Supportive Hands Hospice - ECPv6.15.20//NONSGML v1.0//EN
CALSCALE:GREGORIAN
METHOD:PUBLISH
X-ORIGINAL-URL:https://supportivehandshospice.com
X-WR-CALDESC:Events for Supportive Hands Hospice
REFRESH-INTERVAL;VALUE=DURATION:PT1H
X-Robots-Tag:noindex
X-PUBLISHED-TTL:PT1H
BEGIN:VTIMEZONE
TZID:America/Phoenix
BEGIN:STANDARD
TZOFFSETFROM:-0700
TZOFFSETTO:-0700
TZNAME:MST
DTSTART:20230101T000000
END:STANDARD
END:VTIMEZONE
BEGIN:VEVENT
DTSTART;TZID=America/Phoenix:20241220T083000
DTEND;TZID=America/Phoenix:20241220T093000
DTSTAMP:20260421T145148
CREATED:20241202T152139Z
LAST-MODIFIED:20260421T144410Z
UID:10000025-1734683400-1734687000@supportivehandshospice.com
SUMMARY:Jessica - Loteria - Tolleson Senior Center
DESCRIPTION:
URL:https://supportivehandshospice.com/event/loteria-tolleson-senior-center/
LOCATION:Tolleson Senior Center\, 9055 W Van Buren St\, Tolleson\, AZ\, 85353\, United States
CATEGORIES:Community Outreach,Holiday Events
ATTACH;FMTTYPE=image/png:https://supportivehandshospice.com/wp-content/uploads/2024/12/loteria-e1733159427726.png
END:VEVENT
BEGIN:VEVENT
DTSTART;TZID=America/Phoenix:20241219T123000
DTEND;TZID=America/Phoenix:20241219T133000
DTSTAMP:20260421T145148
CREATED:20241202T152139Z
LAST-MODIFIED:20260421T144410Z
UID:10000024-1734611400-1734615000@supportivehandshospice.com
SUMMARY:Heather - Loteria - Chandler Senior Center (Open Event)
DESCRIPTION:Open Event\nPlease join us!
URL:https://supportivehandshospice.com/event/loteria-chandler-senior-center-open-event/
LOCATION:Chandler Senior Center\, 202 E Boston St\, Chandler\, AZ\, 85225\, United States
CATEGORIES:Community Outreach,Holiday Events,Open to the Public
ATTACH;FMTTYPE=image/png:https://supportivehandshospice.com/wp-content/uploads/2024/12/loteria-e1733159427726.png
END:VEVENT
END:VCALENDAR