BEGIN:VCALENDAR
VERSION:2.0
PRODID:-//Supportive Hands Hospice - ECPv6.15.20//NONSGML v1.0//EN
CALSCALE:GREGORIAN
METHOD:PUBLISH
X-ORIGINAL-URL:https://supportivehandshospice.com
X-WR-CALDESC:Events for Supportive Hands Hospice
REFRESH-INTERVAL;VALUE=DURATION:PT1H
X-Robots-Tag:noindex
X-PUBLISHED-TTL:PT1H
BEGIN:VTIMEZONE
TZID:America/Phoenix
BEGIN:STANDARD
TZOFFSETFROM:-0700
TZOFFSETTO:-0700
TZNAME:MST
DTSTART:20230101T000000
END:STANDARD
END:VTIMEZONE
BEGIN:VEVENT
DTSTART;TZID=America/Phoenix:20241223T130000
DTEND;TZID=America/Phoenix:20241223T150000
DTSTAMP:20260421T165332
CREATED:20241202T152139Z
LAST-MODIFIED:20260421T165252Z
UID:10000027-1734958800-1734966000@supportivehandshospice.com
SUMMARY:Heather - BP Clinic - Sustain & Serve Food Bank (Open Event)
DESCRIPTION:Open Event\nPlease join us!
URL:https://supportivehandshospice.com/event/bp-clinic-sustain-serve-food-bank-open-event/
LOCATION:AZ
CATEGORIES:Blood Pressure Clinic,Open to the Public
ATTACH;FMTTYPE=image/png:https://supportivehandshospice.com/wp-content/uploads/2024/12/bpclinic-e1733159478800.png
END:VEVENT
BEGIN:VEVENT
DTSTART;TZID=America/Phoenix:20241219T123000
DTEND;TZID=America/Phoenix:20241219T133000
DTSTAMP:20260421T165332
CREATED:20241202T152139Z
LAST-MODIFIED:20260421T165239Z
UID:10000024-1734611400-1734615000@supportivehandshospice.com
SUMMARY:Heather - Loteria - Chandler Senior Center (Open Event)
DESCRIPTION:Open Event\nPlease join us!
URL:https://supportivehandshospice.com/event/loteria-chandler-senior-center-open-event/
LOCATION:Chandler Senior Center\, 202 E Boston St\, Chandler\, AZ\, 85225\, United States
CATEGORIES:Community Outreach,Holiday Events,Open to the Public
ATTACH;FMTTYPE=image/png:https://supportivehandshospice.com/wp-content/uploads/2024/12/loteria-e1733159427726.png
END:VEVENT
BEGIN:VEVENT
DTSTART;TZID=America/Phoenix:20241213T100000
DTEND;TZID=America/Phoenix:20241213T120000
DTSTAMP:20260421T165332
CREATED:20241202T152137Z
LAST-MODIFIED:20260421T165238Z
UID:10000013-1734084000-1734091200@supportivehandshospice.com
SUMMARY:Heather - BP Clinic - Swap Meet
DESCRIPTION:
URL:https://supportivehandshospice.com/event/bp-clinic-swap-meet/
LOCATION:AZ
CATEGORIES:Blood Pressure Clinic,Open to the Public
ATTACH;FMTTYPE=image/png:https://supportivehandshospice.com/wp-content/uploads/2024/12/bpclinic-e1733159478800.png
END:VEVENT
BEGIN:VEVENT
DTSTART;TZID=America/Phoenix:20241209T130000
DTEND;TZID=America/Phoenix:20241209T150000
DTSTAMP:20260421T165332
CREATED:20241202T152135Z
LAST-MODIFIED:20260421T165225Z
UID:10000009-1733749200-1733756400@supportivehandshospice.com
SUMMARY:Heather - BP Clinic - Sustain & Serve Community Food Bank (Open Event)
DESCRIPTION:Open Event\nPlease join us!
URL:https://supportivehandshospice.com/event/bp-clinic-sustain-serve-community-food-bank-open-event/
LOCATION:AZ
CATEGORIES:Blood Pressure Clinic,Open to the Public
ATTACH;FMTTYPE=image/png:https://supportivehandshospice.com/wp-content/uploads/2024/12/bpclinic-e1733159478800.png
END:VEVENT
BEGIN:VEVENT
DTSTART;TZID=America/Phoenix:20241205T080000
DTEND;TZID=America/Phoenix:20241205T120000
DTSTAMP:20260421T165332
CREATED:20241202T152135Z
LAST-MODIFIED:20260421T165213Z
UID:10000005-1733385600-1733400000@supportivehandshospice.com
SUMMARY:Heather - BP Clinic @ Valle Del Oro Vendor Fair (Open Event)
DESCRIPTION:Open Event\nPlease join us!
URL:https://supportivehandshospice.com/event/bp-clinic-valle-del-oro-vendor-fair-open-event/
LOCATION:AZ
CATEGORIES:Blood Pressure Clinic,Open to the Public
ATTACH;FMTTYPE=image/png:https://supportivehandshospice.com/wp-content/uploads/2024/12/bpclinic-e1733159478800.png
END:VEVENT
END:VCALENDAR