BEGIN:VCALENDAR
VERSION:2.0
PRODID:-//Supportive Hands Hospice - ECPv6.15.20//NONSGML v1.0//EN
CALSCALE:GREGORIAN
METHOD:PUBLISH
X-ORIGINAL-URL:https://supportivehandshospice.com
X-WR-CALDESC:Events for Supportive Hands Hospice
REFRESH-INTERVAL;VALUE=DURATION:PT1H
X-Robots-Tag:noindex
X-PUBLISHED-TTL:PT1H
BEGIN:VTIMEZONE
TZID:America/Phoenix
BEGIN:STANDARD
TZOFFSETFROM:-0700
TZOFFSETTO:-0700
TZNAME:MST
DTSTART:20230101T000000
END:STANDARD
END:VTIMEZONE
BEGIN:VEVENT
DTSTART;TZID=America/Phoenix:20241225T103000
DTEND;TZID=America/Phoenix:20241225T123000
DTSTAMP:20260421T152738
CREATED:20241202T152139Z
LAST-MODIFIED:20250304T180913Z
UID:10000028-1735122600-1735129800@supportivehandshospice.com
SUMMARY:Kiersten - Hot Cocoa & Movies - Elmwood Senior Living
DESCRIPTION:
URL:https://supportivehandshospice.com/event/hot-cocoa-movies-elmwood-senior-living/
LOCATION:Elmwood Senior Living\, 2555 N Price Rd\, Chandler\, AZ\, 85224\, United States
CATEGORIES:Community Outreach,Holiday Events
ATTACH;FMTTYPE=image/png:https://supportivehandshospice.com/wp-content/uploads/2024/12/hotcocoa-e1733159442842.png
END:VEVENT
BEGIN:VEVENT
DTSTART;TZID=America/Phoenix:20241213T130000
DTEND;TZID=America/Phoenix:20241213T140000
DTSTAMP:20260421T152738
CREATED:20241202T152137Z
LAST-MODIFIED:20250304T180911Z
UID:10000014-1734094800-1734098400@supportivehandshospice.com
SUMMARY:Kiersten - Cookie Decorating @ Elmwood Senior Living
DESCRIPTION:
URL:https://supportivehandshospice.com/event/cookie-decorating-elmwood-senior-living/
LOCATION:Elmwood Senior Living\, 2555 N Price Rd\, Chandler\, AZ\, 85224\, United States
CATEGORIES:Community Outreach,Holiday Events
ATTACH;FMTTYPE=image/png:https://supportivehandshospice.com/wp-content/uploads/2024/12/cookies-e1733159456984.png
END:VEVENT
END:VCALENDAR